BEGIN:VCALENDAR
VERSION:2.0
PRODID:Events Booking
BEGIN:VEVENT
UID:69e999e4e13a5
SUMMARY:Procurement Lotting Strategy​ - DWF
DESCRIPTION:
DTSTART:20261015T130000Z
DTSTAMP:20251217T155513Z
ORGANIZER;CN=Local Government Lawyer:MAILTO:derek.bedlow@localgovernmentlaw
 yer.co.uk
END:VEVENT
END:VCALENDAR