BEGIN:VCALENDAR
VERSION:2.0
PRODID:Events Booking
BEGIN:VEVENT
UID:69e9998c954e8
SUMMARY:Procurement End of Year Review - DWF
DESCRIPTION:
DTSTART:20261202T140000Z
DTSTAMP:20251217T155929Z
ORGANIZER;CN=Local Government Lawyer:MAILTO:derek.bedlow@localgovernmentlaw
 yer.co.uk
END:VEVENT
END:VCALENDAR