BEGIN:VCALENDAR
VERSION:2.0
PRODID:Events Booking
BEGIN:VEVENT
UID:69e52fbccd2f6
SUMMARY:Government contract templates​ - DWF
DESCRIPTION:
DTSTART:20260609T100000Z
DTSTAMP:20251217T153810Z
ORGANIZER;CN=Local Government Lawyer:MAILTO:derek.bedlow@localgovernmentlaw
 yer.co.uk
END:VEVENT
END:VCALENDAR