BEGIN:VCALENDAR
VERSION:2.0
PRODID:Events Booking
BEGIN:VEVENT
UID:69e6d6e4a1b3d
SUMMARY:Getting it right first time: Making lawful decisions (Webinar Serie
 s) - Public Law Project
DESCRIPTION:
DTSTART:20260420T230000Z
DTSTAMP:20260311T124005Z
ORGANIZER;CN=Local Government Lawyer:MAILTO:derek.bedlow@localgovernmentlaw
 yer.co.uk
END:VEVENT
END:VCALENDAR