BEGIN:VCALENDAR
VERSION:2.0
PRODID:Events Booking
BEGIN:VEVENT
UID:69e6422f5a871
SUMMARY:InLaws - Contract Update 2026 - Devonshires
DESCRIPTION:
DTSTART:20260427T230000Z
DTSTAMP:20260420T094516Z
ORGANIZER;CN=Local Government Lawyer:MAILTO:derek.bedlow@localgovernmentlaw
 yer.co.uk
END:VEVENT
END:VCALENDAR