BEGIN:VCALENDAR
VERSION:2.0
PRODID:Events Booking
BEGIN:VEVENT
UID:69e619720dc23
SUMMARY:AI Governance Professional (AIGP) - The Training Centre
DESCRIPTION:Aligned with the AIGP certification program\, AI Governance Pro
 fessional Training is for professionals tasked with implementing AI gove
 rnance and risk management in their organizations. It provides baseline kn
 owledge and strategies for responding to complex risks associated with the
  evolving AI landscape. 
DTSTART:20260422T230000Z
DTSTAMP:20260220T115044Z
ORGANIZER;CN=Local Government Lawyer:MAILTO:derek.bedlow@localgovernmentlaw
 yer.co.uk
END:VEVENT
END:VCALENDAR